BEGIN:VCALENDAR
VERSION:2.0
METHOD:PUBLISH
X-WR-CALNAME: Calendario | Facultad de Filosofía y Letras - UBA
PRODID:-//Drupal iCal API//EN
BEGIN:VEVENT
UID:calendar.1330.changed.0.0
SUMMARY:NUEVO LLAMADO A ADSCRIPCIONES
DTSTAMP:20260420T184213Z
DTSTART:20260420Z
DTEND:20260420Z
1776707632
URL;VALUE=URI:https://educacion.filo.uba.ar/novedades/nuevo-llamado-adscripciones
END:VEVENT
END:VCALENDAR
